Workbook

Sheet طريقة الاستعمال
A1: جدول واجبات الملكية المشتركة — نموذج مجاني من Syndy (syndy.ma)
A3: 1. ورقة «الشقق»: شقة في كل سطر، مع حصتها كما وردت في نظام الملكية المشتركة.
A4: 2. ورقة «الميزانية»: بنود الميزانية التقديرية المصادق عليها في الجمع العام، بالدرهم في السنة.
A5: 3. ورقة «نداءات الأداء»: تُحسب حصة كل شقة تلقائياً (الميزانية × الحصة ÷ مجموع الحصص ÷ 4 أرباع). أدخل المبالغ المؤداة.
A7: تذكير (القانون 18.00 كما تم تعديله بالقانون 106.12، المادة 24): يصادق الجمع العام كل سنة على ميزانية تقديرية ومخصص للأشغال الكبرى للصيانة، ويُستحق المخصص في اليوم الأول من كل ربع سنة أو من المدة التي يحددها الجمع العام.
A9: هذا الجدول كافٍ للبداية. لإرسال نداءات الأداء والاستخلاص عن بعد وتحضير الجمع العام: syndy.ma — مجاني حتى 10 شقق.

Sheet الشقق
A1: رقم الشقة | B1: المالك | C1: النوع (شقة، محل…) | D1: الحصة
A2: A1 | B2: السيدة أ. | C2: شقة | D2: 100
C62: المجموع | D62: =SUM(D2:D61)

Sheet الميزانية
A1: البند | B1: المبلغ السنوي (درهم)
A2: الحراسة | B2: 0
A3: تنظيف الأجزاء المشتركة | B3: 0
A4: كهرباء الأجزاء المشتركة | B4: 0
A5: ماء الأجزاء المشتركة | B5: 0
A6: صيانة المصعد | B6: 0
A7: تأمين العمارة | B7: 0
A8: إصلاحات صغيرة | B8: 0
A9: مخصص الأشغال الكبرى للصيانة | B9: 0
A10: مصاريف بنكية | B10: 0
A11: أتعاب السانديك (عند الاقتضاء) | B11: 0
A13: المجموع | B13: =SUM(B2:B12)

Sheet نداءات الأداء
A1: رقم الشقة | B1: المالك | C1: الحصة | D1: الحصة السنوية (درهم) | E1: نداء كل ربع سنة (درهم) | F1: مؤدى ر1 | G1: مؤدى ر2 | H1: مؤدى ر3 | I1: مؤدى ر4 | J1: الباقي (درهم)
A2: =IF('الشقق'!A2="","",'الشقق'!A2) | B2: =IF('الشقق'!A2="","",'الشقق'!B2) | C2: =IF('الشقق'!A2="","",'الشقق'!D2) | D2: =IF(OR(C2="",'الشقق'!$D$62=0),"",'الميزانية'!$B$13*C2/'الشقق'!$D$62) | E2: =IF(D2="","",D2/4) | J2: =IF(D2="","",D2-SUM(F2:I2))
A3: =IF('الشقق'!A3="","",'الشقق'!A3) | B3: =IF('الشقق'!A3="","",'الشقق'!B3) | C3: =IF('الشقق'!A3="","",'الشقق'!D3) | D3: =IF(OR(C3="",'الشقق'!$D$62=0),"",'الميزانية'!$B$13*C3/'الشقق'!$D$62) | E3: =IF(D3="","",D3/4) | J3: =IF(D3="","",D3-SUM(F3:I3))
A4: =IF('الشقق'!A4="","",'الشقق'!A4) | B4: =IF('الشقق'!A4="","",'الشقق'!B4) | C4: =IF('الشقق'!A4="","",'الشقق'!D4) | D4: =IF(OR(C4="",'الشقق'!$D$62=0),"",'الميزانية'!$B$13*C4/'الشقق'!$D$62) | E4: =IF(D4="","",D4/4) | J4: =IF(D4="","",D4-SUM(F4:I4))
A5: =IF('الشقق'!A5="","",'الشقق'!A5) | B5: =IF('الشقق'!A5="","",'الشقق'!B5) | C5: =IF('الشقق'!A5="","",'الشقق'!D5) | D5: =IF(OR(C5="",'الشقق'!$D$62=0),"",'الميزانية'!$B$13*C5/'الشقق'!$D$62) | E5: =IF(D5="","",D5/4) | J5: =IF(D5="","",D5-SUM(F5:I5))
A6: =IF('الشقق'!A6="","",'الشقق'!A6) | B6: =IF('الشقق'!A6="","",'الشقق'!B6) | C6: =IF('الشقق'!A6="","",'الشقق'!D6) | D6: =IF(OR(C6="",'الشقق'!$D$62=0),"",'الميزانية'!$B$13*C6/'الشقق'!$D$62) | E6: =IF(D6="","",D6/4) | J6: =IF(D6="","",D6-SUM(F6:I6))
A7: =IF('الشقق'!A7="","",'الشقق'!A7) | B7: =IF('الشقق'!A7="","",'الشقق'!B7) | C7: =IF('الشقق'!A7="","",'الشقق'!D7) | D7: =IF(OR(C7="",'الشقق'!$D$62=0),"",'الميزانية'!$B$13*C7/'الشقق'!$D$62) | E7: =IF(D7="","",D7/4) | J7: =IF(D7="","",D7-SUM(F7:I7))
A8: =IF('الشقق'!A8="","",'الشقق'!A8) | B8: =IF('الشقق'!A8="","",'الشقق'!B8) | C8: =IF('الشقق'!A8="","",'الشقق'!D8) | D8: =IF(OR(C8="",'الشقق'!$D$62=0),"",'الميزانية'!$B$13*C8/'الشقق'!$D$62) | E8: =IF(D8="","",D8/4) | J8: =IF(D8="","",D8-SUM(F8:I8))
A9: =IF('الشقق'!A9="","",'الشقق'!A9) | B9: =IF('الشقق'!A9="","",'الشقق'!B9) | C9: =IF('الشقق'!A9="","",'الشقق'!D9) | D9: =IF(OR(C9="",'الشقق'!$D$62=0),"",'الميزانية'!$B$13*C9/'الشقق'!$D$62) | E9: =IF(D9="","",D9/4) | J9: =IF(D9="","",D9-SUM(F9:I9))
A10: =IF('الشقق'!A10="","",'الشقق'!A10) | B10: =IF('الشقق'!A10="","",'الشقق'!B10) | C10: =IF('الشقق'!A10="","",'الشقق'!D10) | D10: =IF(OR(C10="",'الشقق'!$D$62=0),"",'الميزانية'!$B$13*C10/'الشقق'!$D$62) | E10: =IF(D10="","",D10/4) | J10: =IF(D10="","",D10-SUM(F10:I10))
A11: =IF('الشقق'!A11="","",'الشقق'!A11) | B11: =IF('الشقق'!A11="","",'الشقق'!B11) | C11: =IF('الشقق'!A11="","",'الشقق'!D11) | D11: =IF(OR(C11="",'الشقق'!$D$62=0),"",'الميزانية'!$B$13*C11/'الشقق'!$D$62) | E11: =IF(D11="","",D11/4) | J11: =IF(D11="","",D11-SUM(F11:I11))
A12: =IF('الشقق'!A12="","",'الشقق'!A12) | B12: =IF('الشقق'!A12="","",'الشقق'!B12) | C12: =IF('الشقق'!A12="","",'الشقق'!D12) | D12: =IF(OR(C12="",'الشقق'!$D$62=0),"",'الميزانية'!$B$13*C12/'الشقق'!$D$62) | E12: =IF(D12="","",D12/4) | J12: =IF(D12="","",D12-SUM(F12:I12))
A13: =IF('الشقق'!A13="","",'الشقق'!A13) | B13: =IF('الشقق'!A13="","",'الشقق'!B13) | C13: =IF('الشقق'!A13="","",'الشقق'!D13) | D13: =IF(OR(C13="",'الشقق'!$D$62=0),"",'الميزانية'!$B$13*C13/'الشقق'!$D$62) | E13: =IF(D13="","",D13/4) | J13: =IF(D13="","",D13-SUM(F13:I13))
... A61: =IF('الشقق'!A61="","",'الشقق'!A61) | B61: =IF('الشقق'!A61="","",'الشقق'!B61) | C61: =IF('الشقق'!A61="","",'الشقق'!D61) | D61: =IF(OR(C61="",'الشقق'!$D$62=0),"",'الميزانية'!$B$13*C61/'الشقق'!$D$62) | E61: =IF(D61="","",D61/4) | J61: =IF(D61="","",D61-SUM(F61:I61))
